BEGIN:VCALENDAR
VERSION:2.0
PRODID:-//Soroptomist International of Hamilton-Burlington - ECPv5.1.6//NONSGML v1.0//EN
CALSCALE:GREGORIAN
METHOD:PUBLISH
X-WR-CALNAME:Soroptomist International of Hamilton-Burlington
X-ORIGINAL-URL:https://sihamiltonburlington.ca
X-WR-CALDESC:Events for Soroptomist International of Hamilton-Burlington
BEGIN:VTIMEZONE
TZID:UTC
BEGIN:STANDARD
TZOFFSETFROM:+0000
TZOFFSETTO:+0000
TZNAME:UTC
DTSTART:20160101T000000
END:STANDARD
END:VTIMEZONE
BEGIN:VEVENT
DTSTART;TZID=UTC:20160914T183000
DTEND;TZID=UTC:20160914T210000
DTSTAMP:20260421T171046
CREATED:20160907T011622Z
LAST-MODIFIED:20160907T011622Z
UID:1010-1473877800-1473886800@sihamiltonburlington.ca
SUMMARY:September Meeting 2016
DESCRIPTION:Welcome back from a busy or restful summer \nAgenda will be posted on our Facebook page. \nGuests are welcome. \nIf you plan to join us or if you have any questions\, please send us an email. \n 
URL:https://sihamiltonburlington.ca/event/september-meeting-2016/
LOCATION:Fortino’s – Main West – Community Room\, 1579 Main West Street\, Hamilton\, Ontario\, Canada
END:VEVENT
END:VCALENDAR