BEGIN:VCALENDAR
VERSION:2.0
PRODID:-//Soroptomist International of Hamilton-Burlington - ECPv5.1.6//NONSGML v1.0//EN
CALSCALE:GREGORIAN
METHOD:PUBLISH
X-WR-CALNAME:Soroptomist International of Hamilton-Burlington
X-ORIGINAL-URL:https://sihamiltonburlington.ca
X-WR-CALDESC:Events for Soroptomist International of Hamilton-Burlington
BEGIN:VTIMEZONE
TZID:UTC
BEGIN:STANDARD
TZOFFSETFROM:+0000
TZOFFSETTO:+0000
TZNAME:UTC
DTSTART:20140101T000000
END:STANDARD
END:VTIMEZONE
BEGIN:VEVENT
DTSTART;TZID=UTC:20141112T183000
DTEND;TZID=UTC:20141112T210000
DTSTAMP:20260422T174718
CREATED:20140814T030748Z
LAST-MODIFIED:20140814T030748Z
UID:939-1415817000-1415826000@sihamiltonburlington.ca
SUMMARY:November Business Meeting
DESCRIPTION:November monthly meeting \nBusiness as usual and guest speaker \nMeeting will be held at Fortinos Community Meeting Room \n1579 Main Street West \nHamilton
URL:https://sihamiltonburlington.ca/event/november-business-meeting/
LOCATION:Fortinos\, 1579 Main Street West\, Hamilton\, Ontario\, Canada
END:VEVENT
END:VCALENDAR