BEGIN:VCALENDAR
VERSION:2.0
PRODID:-//Soroptomist International of Hamilton-Burlington - ECPv5.1.6//NONSGML v1.0//EN
CALSCALE:GREGORIAN
METHOD:PUBLISH
X-WR-CALNAME:Soroptomist International of Hamilton-Burlington
X-ORIGINAL-URL:https://sihamiltonburlington.ca
X-WR-CALDESC:Events for Soroptomist International of Hamilton-Burlington
BEGIN:VTIMEZONE
TZID:UTC
BEGIN:STANDARD
TZOFFSETFROM:+0000
TZOFFSETTO:+0000
TZNAME:UTC
DTSTART:20170101T000000
END:STANDARD
END:VTIMEZONE
BEGIN:VEVENT
DTSTART;TZID=UTC:20170308T173000
DTEND;TZID=UTC:20170308T210000
DTSTAMP:20260421T170636
CREATED:20170222T013805Z
LAST-MODIFIED:20170222T013805Z
UID:1024-1488994200-1489006800@sihamiltonburlington.ca
SUMMARY:March Meeting
DESCRIPTION:March Business Meeting
URL:https://sihamiltonburlington.ca/event/march-meeting/
LOCATION:Fortino’s – Main West – Community Room\, 1579 Main West Street\, Hamilton\, Ontario\, Canada
END:VEVENT
END:VCALENDAR