BEGIN:VCALENDAR
VERSION:2.0
PRODID:-//Soroptomist International of Hamilton-Burlington - ECPv5.1.6//NONSGML v1.0//EN
CALSCALE:GREGORIAN
METHOD:PUBLISH
X-WR-CALNAME:Soroptomist International of Hamilton-Burlington
X-ORIGINAL-URL:https://sihamiltonburlington.ca
X-WR-CALDESC:Events for Soroptomist International of Hamilton-Burlington
BEGIN:VTIMEZONE
TZID:UTC
BEGIN:STANDARD
TZOFFSETFROM:+0000
TZOFFSETTO:+0000
TZNAME:UTC
DTSTART:20160101T000000
END:STANDARD
END:VTIMEZONE
BEGIN:VEVENT
DTSTART;TZID=UTC:20160309T183000
DTEND;TZID=UTC:20160309T210000
DTSTAMP:20260422T020701
CREATED:20150910T030239Z
LAST-MODIFIED:20150910T030239Z
UID:999-1457548200-1457557200@sihamiltonburlington.ca
SUMMARY:March Business Meeting
DESCRIPTION:March Business Meeting \nWednesday March 9 \, 2016 \n6:30 pm to 9 pm \nLocation: Fortino’s Meeting Room\n1579 Main Street West\nHamilton \nIf you are interested in attending our meeting\, guests are welcome to join us. \nPlease email us if you have any questions.
URL:https://sihamiltonburlington.ca/event/march-business-meeting-2/
END:VEVENT
END:VCALENDAR