BEGIN:VCALENDAR
VERSION:2.0
PRODID:-//Soroptomist International of Hamilton-Burlington - ECPv5.1.6//NONSGML v1.0//EN
CALSCALE:GREGORIAN
METHOD:PUBLISH
X-WR-CALNAME:Soroptomist International of Hamilton-Burlington
X-ORIGINAL-URL:https://sihamiltonburlington.ca
X-WR-CALDESC:Events for Soroptomist International of Hamilton-Burlington
BEGIN:VTIMEZONE
TZID:UTC
BEGIN:STANDARD
TZOFFSETFROM:+0000
TZOFFSETTO:+0000
TZNAME:UTC
DTSTART:20160101T000000
END:STANDARD
END:VTIMEZONE
BEGIN:VEVENT
DTSTART;TZID=UTC:20160608T183000
DTEND;TZID=UTC:20160608T210000
DTSTAMP:20260421T204623
CREATED:20150910T031830Z
LAST-MODIFIED:20150910T031830Z
UID:1005-1465410600-1465419600@sihamiltonburlington.ca
SUMMARY:June Dinner Meeting
DESCRIPTION:June Dinner Meeting \nWednesday June 8 \, 2016 \n6:30 pm to 9 pm \nLocation: Restaurant to be announced \n\nIf you are interested in attending our meeting\, guests are welcome to join us. \nPlease email us if you have any questions.
URL:https://sihamiltonburlington.ca/event/june-dinner-meeting/
END:VEVENT
END:VCALENDAR