BEGIN:VCALENDAR
VERSION:2.0
PRODID:-//Soroptomist International of Hamilton-Burlington - ECPv5.1.6//NONSGML v1.0//EN
CALSCALE:GREGORIAN
METHOD:PUBLISH
X-WR-CALNAME:Soroptomist International of Hamilton-Burlington
X-ORIGINAL-URL:https://sihamiltonburlington.ca
X-WR-CALDESC:Events for Soroptomist International of Hamilton-Burlington
BEGIN:VTIMEZONE
TZID:UTC
BEGIN:STANDARD
TZOFFSETFROM:+0000
TZOFFSETTO:+0000
TZNAME:UTC
DTSTART:20150101T000000
END:STANDARD
END:VTIMEZONE
BEGIN:VEVENT
DTSTART;TZID=UTC:20150610T180000
DTEND;TZID=UTC:20150610T210000
DTSTAMP:20260422T140818
CREATED:20141026T154754Z
LAST-MODIFIED:20150310T030511Z
UID:968-1433959200-1433970000@sihamiltonburlington.ca
SUMMARY:June Dinner Business Meeting
DESCRIPTION:June Meeting \nand \nRaffle Draw \nfor \n1st Prize – Samsung Galaxy Tab 4\n2nd Prize – Wine Tour Package\n3rd Prize – $200.00 Cash \ncontact us to purchase Raffle Tickets for $5.00 each \nLocation: Fortino’s 1579 Main W\, Hamilton\, community room
URL:https://sihamiltonburlington.ca/event/june-dinner-business-meeting/
LOCATION:Fortino’s – Main West – Community Room\, 1579 Main West Street\, Hamilton\, Ontario\, Canada
END:VEVENT
END:VCALENDAR