BEGIN:VCALENDAR
VERSION:2.0
PRODID:-//Soroptomist International of Hamilton-Burlington - ECPv5.1.6//NONSGML v1.0//EN
CALSCALE:GREGORIAN
METHOD:PUBLISH
X-WR-CALNAME:Soroptomist International of Hamilton-Burlington
X-ORIGINAL-URL:https://sihamiltonburlington.ca
X-WR-CALDESC:Events for Soroptomist International of Hamilton-Burlington
BEGIN:VTIMEZONE
TZID:UTC
BEGIN:STANDARD
TZOFFSETFROM:+0000
TZOFFSETTO:+0000
TZNAME:UTC
DTSTART:20150101T000000
END:STANDARD
END:VTIMEZONE
BEGIN:VEVENT
DTSTART;TZID=UTC:20150114T183000
DTEND;TZID=UTC:20150114T210000
DTSTAMP:20260422T173922
CREATED:20141026T152257Z
LAST-MODIFIED:20141026T152257Z
UID:955-1421260200-1421269200@sihamiltonburlington.ca
SUMMARY:January Business Meeting
DESCRIPTION:January Monthly Meeting \nBusiness as usual and a guest speaker \nGUESTS ARE WELCOME \nPlease drop in and say hello
URL:https://sihamiltonburlington.ca/event/january-business-meeting/
LOCATION:Fortino’s – Meeting Room\, 1579 Main Street West\, Hamilton\, Ontario\, Canada
END:VEVENT
END:VCALENDAR