BEGIN:VCALENDAR
VERSION:2.0
PRODID:-//Soroptomist International of Hamilton-Burlington - ECPv5.1.6//NONSGML v1.0//EN
CALSCALE:GREGORIAN
METHOD:PUBLISH
X-WR-CALNAME:Soroptomist International of Hamilton-Burlington
X-ORIGINAL-URL:https://sihamiltonburlington.ca
X-WR-CALDESC:Events for Soroptomist International of Hamilton-Burlington
BEGIN:VTIMEZONE
TZID:UTC
BEGIN:STANDARD
TZOFFSETFROM:+0000
TZOFFSETTO:+0000
TZNAME:UTC
DTSTART:20140101T000000
END:STANDARD
END:VTIMEZONE
BEGIN:VEVENT
DTSTART;VALUE=DATE:20140308
DTEND;VALUE=DATE:20140309
DTSTAMP:20260422T141121
CREATED:20150302T202016Z
LAST-MODIFIED:20141022T013014Z
UID:893-1394236800-1394323199@sihamiltonburlington.ca
SUMMARY:International Women's Day
DESCRIPTION:International Women’s Day all over the world
URL:https://sihamiltonburlington.ca/event/international-womens-day-2/
END:VEVENT
END:VCALENDAR