BEGIN:VCALENDAR
VERSION:2.0
PRODID:-//Soroptomist International of Hamilton-Burlington - ECPv5.1.6//NONSGML v1.0//EN
CALSCALE:GREGORIAN
METHOD:PUBLISH
X-WR-CALNAME:Soroptomist International of Hamilton-Burlington
X-ORIGINAL-URL:https://sihamiltonburlington.ca
X-WR-CALDESC:Events for Soroptomist International of Hamilton-Burlington
BEGIN:VTIMEZONE
TZID:UTC
BEGIN:STANDARD
TZOFFSETFROM:+0000
TZOFFSETTO:+0000
TZNAME:UTC
DTSTART:20150101T000000
END:STANDARD
END:VTIMEZONE
BEGIN:VEVENT
DTSTART;TZID=UTC:20150921T090000
DTEND;TZID=UTC:20150926T180000
DTSTAMP:20260422T124731
CREATED:20150910T022020Z
LAST-MODIFIED:20150910T022020Z
UID:988-1442826000-1443290400@sihamiltonburlington.ca
SUMMARY:Fall Book Sale
DESCRIPTION:Annual Fall Book Sale \nMonday September 21\, 2015 to Saturday September 26\, 2015 \n9 am to 6 pm \nJackson Square – Food Court area (next to Freshly Squeezed) \nAbout the Hamilton Public Library Book Sale \nBook Sale books are recent discards from the Hamilton Public Library collection.  All books are carefully examined before discarding to ensure they can no  longer be used by the Library. The Library keeps it collection as useful and up-to-date as possible by removing damaged\, outdated and unused material to make room for the current and popular items.
URL:https://sihamiltonburlington.ca/event/fall-book-sale/
LOCATION:Jackson Square\, 2 King Street\, Hamilton\, Ontario\, Canada
END:VEVENT
END:VCALENDAR