BEGIN:VCALENDAR
VERSION:2.0
PRODID:-//Soroptomist International of Hamilton-Burlington - ECPv5.1.6//NONSGML v1.0//EN
CALSCALE:GREGORIAN
METHOD:PUBLISH
X-WR-CALNAME:Soroptomist International of Hamilton-Burlington
X-ORIGINAL-URL:https://sihamiltonburlington.ca
X-WR-CALDESC:Events for Soroptomist International of Hamilton-Burlington
BEGIN:VTIMEZONE
TZID:UTC
BEGIN:STANDARD
TZOFFSETFROM:+0000
TZOFFSETTO:+0000
TZNAME:UTC
DTSTART:20150101T000000
END:STANDARD
END:VTIMEZONE
BEGIN:VEVENT
DTSTART;VALUE=DATE:20150501
DTEND;VALUE=DATE:20150504
DTSTAMP:20260422T172846
CREATED:20141026T153508Z
LAST-MODIFIED:20141026T153508Z
UID:965-1430438400-1430697599@sihamiltonburlington.ca
SUMMARY:ECR Spring Conference hosted by S.I. Guelph
DESCRIPTION:
URL:https://sihamiltonburlington.ca/event/ecr-spring-conference-hosted-by-s-i-guelph/
END:VEVENT
END:VCALENDAR