BEGIN:VCALENDAR
VERSION:2.0
PRODID:-//Soroptomist International of Hamilton-Burlington - ECPv5.1.6//NONSGML v1.0//EN
CALSCALE:GREGORIAN
METHOD:PUBLISH
X-WR-CALNAME:Soroptomist International of Hamilton-Burlington
X-ORIGINAL-URL:https://sihamiltonburlington.ca
X-WR-CALDESC:Events for Soroptomist International of Hamilton-Burlington
BEGIN:VTIMEZONE
TZID:UTC
BEGIN:STANDARD
TZOFFSETFROM:+0000
TZOFFSETTO:+0000
TZNAME:UTC
DTSTART:20140101T000000
END:STANDARD
END:VTIMEZONE
BEGIN:VEVENT
DTSTART;TZID=UTC:20141210T183000
DTEND;TZID=UTC:20141210T210000
DTSTAMP:20260422T191736
CREATED:20141026T151800Z
LAST-MODIFIED:20141026T151800Z
UID:949-1418236200-1418245200@sihamiltonburlington.ca
SUMMARY:Christmas Potluck/Social Meeting
DESCRIPTION:‘Tis the Season to Celebrate our hard work all year \nMeeting to be held at the home of one of our members \nIf anyone is interested in attending this meeting please email us for more information \nHappy Holidays! Merry Christmas! Seasons Greetings! and Happy New Year!
URL:https://sihamiltonburlington.ca/event/christmas-potlucksocial-meeting/
LOCATION:Unnamed Venue\, Burlington\, Ontario\, L7P 4Y1\, Canada
END:VEVENT
END:VCALENDAR